BEGIN:VCALENDAR
VERSION:2.0
PRODID:-//Simply Pretty Studio
CALSCALE:GREGORIAN
METHOD:PUBLISH
X-WR-CALNAME:Simply Pretty Studio
X-ORIGINAL-URL:https://simplyprettystudio.kerrytimms.co.uk/product/christmas-crafts-at-the-simply-pretty-studio/
X-WR-CALDESC:Christmas Crafts at the Simply Pretty Studio
BEGIN:VEVENT
DTSTART;TZID=Europe/London:20231202T213000
DTEND;TZID=Europe/London:20231202T123000
SUMMARY:Christmas Crafts at the Simply Pretty Studio
DESCRIPTION:Join me at the Studio for this fun morning of Christmas crafting, take your pick from five fabulous Class options &nbsp; &nbsp;
URL:https://simplyprettystudio.kerrytimms.co.uk/product/christmas-crafts-at-the-simply-pretty-studio/
LOCATION:
END:VEVENT
END:VCALENDAR
